BEGIN:VCALENDAR
VERSION:2.0
PRODID:-//hacksw/handcal//NONSGML v1.0//EN
CALSCALE:GREGORIAN
BEGIN:VEVENT
ORGANIZER;CN=Tenaris:MAILTO:no-reply@mail.gcs-web.com
DTEND:
UID:239a804e-49f8-46df-81ae-616ff61fcbf8
DTSTAMP:1776784729
LOCATION:https://ir.tenaris.com/events/event-details/2026-q2-results-conference-call
DESCRIPTION:Event Details https://ir.tenaris.com/events/event-details/2026-q2-results-conference-call
URL;VALUE=URI:https://ir.tenaris.com/events/event-details/2026-q2-results-conference-call
SUMMARY:Tenaris - 2026 Q2 Results Conference Call
DTSTART:20260806T040000Z
END:VEVENT
END:VCALENDAR